BEGIN:VCALENDAR
VERSION:2.0
PRODID:-//Bahnsteig 1 - Vinothek | Event | Restaurant - ECPv6.15.20//NONSGML v1.0//EN
CALSCALE:GREGORIAN
METHOD:PUBLISH
X-WR-CALNAME:Bahnsteig 1 - Vinothek | Event | Restaurant
X-ORIGINAL-URL:https://bahnsteig1.org
X-WR-CALDESC:Veranstaltungen für Bahnsteig 1 - Vinothek | Event | Restaurant
REFRESH-INTERVAL;VALUE=DURATION:PT1H
X-Robots-Tag:noindex
X-PUBLISHED-TTL:PT1H
BEGIN:VTIMEZONE
TZID:UTC
BEGIN:STANDARD
TZOFFSETFROM:+0000
TZOFFSETTO:+0000
TZNAME:UTC
DTSTART:20240101T000000
END:STANDARD
END:VTIMEZONE
BEGIN:VEVENT
DTSTART;TZID=UTC:20250404T080000
DTEND;TZID=UTC:20250404T190000
DTSTAMP:20260422T205349
CREATED:20250116T224340Z
LAST-MODIFIED:20250116T224340Z
UID:1677-1743753600-1743793200@bahnsteig1.org
SUMMARY:04. April: Ortsweinprobe | Winzergenossenschaft Mayschoß-Altenahr
DESCRIPTION:Ortsweinprobe – Winzergenossenschaft Mayschoß-Altenahr\n6 Weine | 6 Orte | 6 Terroirs\n1 Rebsorte | 1 Ausbauart | 1 Idee \nWir verkosten mit Euch das Ortsweinpaket der WG Mayschoß.\nEs erwarten euch 6 Weine aus unterschiedlichen Ortslagen der Ahr. Alle Weine sind aus dem gleichen Jahrgang\, unter gleichen Bedingungen gefüllt und gelagert\, gleich ausgebaut und von sehr gut vergleichbarer Qualität.\nEs unterscheiden sich alleine die Orte\, an denen die Trauben gewachsen sind. Wir gehen der Frage nach … Kann man Terroir schmecken? Und ihr dürft gespannt sein\, wie sich die Weine unterscheiden. 6 Weine aus 6 unterschiedlichen Ortslagen. Altenahr\, Mayschoß\, Rech\, Walporzheim\, Ahrweiler und Heimersheim … eine Reise entlang der verschiedenen Terroirs an der Ahr. \nDazu servieren wir unsere großartige Gourmet Vesper mit leckerem Käse aus der Eifel\, feinen Spezialitäten vom Eifeler Glücksschwein und feinen Köstlichkeiten aus der Gourmet Manufaktur des Vieux Sinzig. \nWir freuen uns auf einen genussvollen Abend entlang der Ahr. \n04. April 2025\n19:00 Uhr\nIm Bahnsteig 1 in Mayschoß \n59\,00 Euro pP inkl. Weinprobe\, Wasser und Gourmet-Abendbrot.\nAlkoholfreie Teilnahme mit entsprechend abgewandeltem Preis natürlich möglich.\nSprecht uns einfach an. 😉 \nWir freuen uns auf Eure Reservierung unter: info@bahnsteig1.org
URL:https://bahnsteig1.org/event/04-april-ortsweinprobe-winzergenossenschaft-mayschoss-altenahr/
LOCATION:Bahnsteig 1 – Vinothek | Event | Restaurant\, Eurodeplatz 1\, Mayschoß\, Rheinland-Pfalz\, 53508\, Germany
ATTACH;FMTTYPE=image/jpeg:https://bahnsteig1.org/wp-content/uploads/2025/01/Ortsweinprobe2025.jpg
ORGANIZER;CN="Bahnsteig 1":MAILTO:info@bahnsteig1.org
END:VEVENT
END:VCALENDAR